BEGIN:VCALENDAR
VERSION:2.0
PRODID:-//Martin Schneider - ECPv6.6.4//NONSGML v1.0//EN
CALSCALE:GREGORIAN
METHOD:PUBLISH
X-WR-CALNAME:Martin Schneider
X-ORIGINAL-URL:https://martinschneider-violin.de
X-WR-CALDESC:Events for Martin Schneider
REFRESH-INTERVAL;VALUE=DURATION:PT1H
X-Robots-Tag:noindex
X-PUBLISHED-TTL:PT1H
BEGIN:VTIMEZONE
TZID:UTC
BEGIN:STANDARD
TZOFFSETFROM:+0000
TZOFFSETTO:+0000
TZNAME:UTC
DTSTART:20260101T000000
END:STANDARD
END:VTIMEZONE
BEGIN:VEVENT
DTSTART;TZID=UTC:20260809T130000
DTEND;TZID=UTC:20260809T200000
DTSTAMP:20260423T173107
CREATED:20260301T151147Z
LAST-MODIFIED:20260301T153124Z
UID:463-1786280400-1786305600@martinschneider-violin.de
SUMMARY:Wir feiern! - Innsbrucker Festwochen der Alten Musik
DESCRIPTION:Yara-Ensemble \n\n\n\n«Wir feiern!» – einen ganzen Tag im Zeichen der Musik: Künstler:innen der Festwochen-Familie lassen den Hofgarten musikalisch erblühen. Die klingende Bühne\, auf der wir die Musik\, unsere Künstler:innen und unser treues Publikum feiern\, ist unser Geschenk an alle. An diesem Tag bündelt sich\, was sonst über den Sommer verteilt in der ganzen Stadt zu hören ist: ein Tag zwischen Concerto mobile\, Lunchkonzert\, Blauer Stunde und Oper – umsonst und draußen. \n\n\n\nImmer wieder eröffnen sich neue Klangwelten – mit unterschiedlichen Instrumenten\, Ensembles und überraschenden musikalischen Begegnungen. Hier hört man nicht nur Musik\, sondern kann die Alte Musik in ihren vielen Facetten entdecken. Es wird ein Fest der Begegnungen\, Klangfarben und der internationalen Vielfalt Alter Musik. \n\n\n\nWenn der Blick am Nachmittag durch das Blätterdach zu den nahen Bergen und in die Ferne schweift\, richtet man ihn abends am besten auf die Leinwand\, auf der eine Aufzeichnung der Festwochen 2025 zu sehen sein wird: «Ifigenia in Aulide» von Antonio Caldara.
URL:https://martinschneider-violin.de/event/wir-feiern-innsbrucker-festwochen-der-alten-musik/
LOCATION:Hofgarten Innsbruck\, Pavillon\, Rennweg 6A\, Innsbruck\, 6020\, Austria
CATEGORIES:Konzert
ORGANIZER;CN="Innsbrucker Festwochen der Alten Musik":MAILTO:festwochen@altemusik.at
END:VEVENT
BEGIN:VEVENT
DTSTART;TZID=UTC:20260815T090000
DTEND;TZID=UTC:20260815T100000
DTSTAMP:20260423T173107
CREATED:20260301T160137Z
LAST-MODIFIED:20260301T160138Z
UID:521-1786784400-1786788000@martinschneider-violin.de
SUMMARY:C. M. v. Weber\, Jubelmesse
DESCRIPTION:
URL:https://martinschneider-violin.de/event/c-m-v-weber-jubelmesse-2/
LOCATION:Jesuitenkirche Innsbruck\, Karl-Rahner-Platz 2\, Innsbruck\, 6020\, Austria
CATEGORIES:Konzert
END:VEVENT
END:VCALENDAR