BEGIN:VCALENDAR
VERSION:2.0
PRODID:-//Martin Schneider - ECPv6.6.4//NONSGML v1.0//EN
CALSCALE:GREGORIAN
METHOD:PUBLISH
X-ORIGINAL-URL:https://martinschneider-violin.de
X-WR-CALDESC:Events for Martin Schneider
REFRESH-INTERVAL;VALUE=DURATION:PT1H
X-Robots-Tag:noindex
X-PUBLISHED-TTL:PT1H
BEGIN:VTIMEZONE
TZID:UTC
BEGIN:STANDARD
TZOFFSETFROM:+0000
TZOFFSETTO:+0000
TZNAME:UTC
DTSTART:20260101T000000
END:STANDARD
END:VTIMEZONE
BEGIN:VEVENT
DTSTART;TZID=UTC:20260531T190000
DTEND;TZID=UTC:20260531T203000
DTSTAMP:20260423T173226
CREATED:20260301T155825Z
LAST-MODIFIED:20260301T155826Z
UID:517-1780254000-1780259400@martinschneider-violin.de
SUMMARY:C. M. v. Weber\, Jubelmesse
DESCRIPTION:C. M. v. Weber\, Jubelmesse \n\n\n\nChor und Solisten der Wiltener Sängerknaben\, Academia Jacobus Stainer
URL:https://martinschneider-violin.de/event/c-m-v-weber-jubelmesse/
LOCATION:Stiftskirche Wilten\, Klostergasse 7\, Innsbruck\, 6020\, Austria
CATEGORIES:Konzert
END:VEVENT
END:VCALENDAR