BEGIN:VCALENDAR
VERSION:2.0
PRODID:-//Martin Schneider - ECPv6.6.4//NONSGML v1.0//EN
CALSCALE:GREGORIAN
METHOD:PUBLISH
X-WR-CALNAME:Martin Schneider
X-ORIGINAL-URL:https://martinschneider-violin.de
X-WR-CALDESC:Events for Martin Schneider
REFRESH-INTERVAL;VALUE=DURATION:PT1H
X-Robots-Tag:noindex
X-PUBLISHED-TTL:PT1H
BEGIN:VTIMEZONE
TZID:UTC
BEGIN:STANDARD
TZOFFSETFROM:+0000
TZOFFSETTO:+0000
TZNAME:UTC
DTSTART:20260101T000000
END:STANDARD
END:VTIMEZONE
BEGIN:VEVENT
DTSTART;TZID=UTC:20260517T193000
DTEND;TZID=UTC:20260517T210000
DTSTAMP:20260423T155342
CREATED:20260301T154931Z
LAST-MODIFIED:20260301T154932Z
UID:510-1779046200-1779051600@martinschneider-violin.de
SUMMARY:Kings of Bravura in München
DESCRIPTION:VIRTUOSO TENOR ARIEN DER MOZARTZEIT \n\n\n\nDaniel BEHLE\, TenorHOFKAPELLE MÜNCHENRüdiger LOTTER\, Leitung
URL:https://martinschneider-violin.de/event/kings-of-bravura-in-munchen/
LOCATION:Alleheiligen-Hofkirche\, München\, Residenzstraße 1\, München\, 80333\, Germany
CATEGORIES:Konzert
END:VEVENT
END:VCALENDAR