BEGIN:VCALENDAR
VERSION:2.0
PRODID:-//Martin Schneider - ECPv6.6.4//NONSGML v1.0//EN
CALSCALE:GREGORIAN
METHOD:PUBLISH
X-WR-CALNAME:Martin Schneider
X-ORIGINAL-URL:https://martinschneider-violin.de
X-WR-CALDESC:Events for Martin Schneider
REFRESH-INTERVAL;VALUE=DURATION:PT1H
X-Robots-Tag:noindex
X-PUBLISHED-TTL:PT1H
BEGIN:VTIMEZONE
TZID:UTC
BEGIN:STANDARD
TZOFFSETFROM:+0000
TZOFFSETTO:+0000
TZNAME:UTC
DTSTART:20260101T000000
END:STANDARD
END:VTIMEZONE
BEGIN:VEVENT
DTSTART;TZID=UTC:20260510T180000
DTEND;TZID=UTC:20260510T193000
DTSTAMP:20260423T141041
CREATED:20260301T154628Z
LAST-MODIFIED:20260301T154629Z
UID:505-1778436000-1778441400@martinschneider-violin.de
SUMMARY:Kings of Bravura - Bravourarien der Klassik
DESCRIPTION:Kings of Bravura – Bravourarien der KlassikDaniel Behle (Tenor)\, Rüdiger Lotter (Leitung)\, Hofkapelle München
URL:https://martinschneider-violin.de/event/kings-of-bravura-bravourarien-der-klassik/
LOCATION:Friedrichsforum Bayreuth\, großer Saal\, Friedrichstraße 19\, Bayreuth\, 95444\, Germany
CATEGORIES:Konzert
END:VEVENT
END:VCALENDAR