BEGIN:VCALENDAR
VERSION:2.0
PRODID:-//Martin Schneider - ECPv6.6.4//NONSGML v1.0//EN
CALSCALE:GREGORIAN
METHOD:PUBLISH
X-WR-CALNAME:Martin Schneider
X-ORIGINAL-URL:https://martinschneider-violin.de
X-WR-CALDESC:Events for Martin Schneider
REFRESH-INTERVAL;VALUE=DURATION:PT1H
X-Robots-Tag:noindex
X-PUBLISHED-TTL:PT1H
BEGIN:VTIMEZONE
TZID:UTC
BEGIN:STANDARD
TZOFFSETFROM:+0000
TZOFFSETTO:+0000
TZNAME:UTC
DTSTART:20260101T000000
END:STANDARD
END:VTIMEZONE
BEGIN:VEVENT
DTSTART;TZID=UTC:20260403T170000
DTEND;TZID=UTC:20260403T200000
DTSTAMP:20260423T103439
CREATED:20260301T153931Z
LAST-MODIFIED:20260301T154428Z
UID:498-1775235600-1775246400@martinschneider-violin.de
SUMMARY:Karfreitagskonzert 2026
DESCRIPTION:Johann Sebastian Bach\, Matthäus-Passion\, BWV 244 \n\n\n\nMitwirkende:Ted Black (Evangelist)David Pichlmaier (Jesus) \n\n\n\nJana Baumeister (Sopran)Amira Elmadfa (Alt)Dmitry Ivanchey (Tenor)Filippo Turkheimer (Bariton)Marcel Brunner (Bass) \n\n\n\n2 Chöre2 Orchester \n\n\n\nKonzertchor DarmstadtDarmstädter Hofkapelle auf historischen Instrumenten in barocker StimmungWolfgang Seeliger\, Gesamtleitung
URL:https://martinschneider-violin.de/event/karfreitagskonzert-2026/
LOCATION:darmstadtium\, Darmstadt\, Schlossgraben 1\, Darmstadt\, 64283\, Germany
CATEGORIES:Konzert
END:VEVENT
END:VCALENDAR