BEGIN:VCALENDAR
VERSION:2.0
PRODID:-//Martin Schneider - ECPv6.6.4//NONSGML v1.0//EN
CALSCALE:GREGORIAN
METHOD:PUBLISH
X-WR-CALNAME:Martin Schneider
X-ORIGINAL-URL:http://martinschneider-violin.de
X-WR-CALDESC:Events for Martin Schneider
REFRESH-INTERVAL;VALUE=DURATION:PT1H
X-Robots-Tag:noindex
X-PUBLISHED-TTL:PT1H
BEGIN:VTIMEZONE
TZID:UTC
BEGIN:STANDARD
TZOFFSETFROM:+0000
TZOFFSETTO:+0000
TZNAME:UTC
DTSTART:20240101T000000
END:STANDARD
END:VTIMEZONE
BEGIN:VEVENT
DTSTART;TZID=UTC:20250105T150000
DTEND;TZID=UTC:20250105T163000
DTSTAMP:20260419T135128
CREATED:20241124T102737Z
LAST-MODIFIED:20241124T105506Z
UID:381-1736089200-1736094600@martinschneider-violin.de
SUMMARY:Bayerisches Jugend Barockorchester
DESCRIPTION:
URL:http://martinschneider-violin.de/event/bayerisches-jugend-barockorchester/
LOCATION:Bayerisches Nationalmuseum München\, Prinzregentenstraße 3\, München\, 80538\, Germany
CATEGORIES:Konzert
END:VEVENT
BEGIN:VEVENT
DTSTART;TZID=UTC:20241201T160000
DTEND;TZID=UTC:20241201T170000
DTSTAMP:20260419T135128
CREATED:20241124T102044Z
LAST-MODIFIED:20241124T105500Z
UID:373-1733068800-1733072400@martinschneider-violin.de
SUMMARY:Wachet auf!
DESCRIPTION:
URL:http://martinschneider-violin.de/event/wachet-auf/
LOCATION:Dom zu Salzburg\, Domplatz 1a\, 5020 Salzburg\, Salzburg\, 5020\, Austria
CATEGORIES:Konzert
END:VEVENT
BEGIN:VEVENT
DTSTART;TZID=UTC:20241117T190000
DTEND;TZID=UTC:20241117T190000
DTSTAMP:20260419T135128
CREATED:20240914T220919Z
LAST-MODIFIED:20240915T121256Z
UID:268-1731870000-1731870000@martinschneider-violin.de
SUMMARY:Kammermusikabend mit Tim Krüger und Jan Fuß
DESCRIPTION:Kammermusikabend mit Werken von F. Geminiani\, G.F. Händel u.a. \n\n\n\n \n\n\n\nMartin Schneider\, Barockvioline \n\n\n\nJan Fuß\, Blockflöte \n\n\n\nTim Krüger\, Cembalo
URL:http://martinschneider-violin.de/event/kammermusikabend-mit-tim-kruger-und-jan-fus/
LOCATION:Emmauskirche Stuttgart-Riedenberg\, Schemppstraße 49\, Stuttgart\, 70619\, Germany
CATEGORIES:Konzert
END:VEVENT
BEGIN:VEVENT
DTSTART;TZID=UTC:20241109T200000
DTEND;TZID=UTC:20241109T220000
DTSTAMP:20260419T135128
CREATED:20241124T110813Z
LAST-MODIFIED:20241124T111020Z
UID:423-1731182400-1731189600@martinschneider-violin.de
SUMMARY:Freiburger Barockorchester: Brandenburgische Konzerte 1 – 6
DESCRIPTION:
URL:http://martinschneider-violin.de/event/freiburger-barockorchester-brandenburgische-konzerte-1-6-3/
LOCATION:Brugge Concertgebouw\, ‘t Zand 34\, Brugge\, 8000\, Belgium
CATEGORIES:Konzert
END:VEVENT
BEGIN:VEVENT
DTSTART;TZID=UTC:20241030T203000
DTEND;TZID=UTC:20241030T223000
DTSTAMP:20260419T135128
CREATED:20241124T110431Z
LAST-MODIFIED:20241124T110432Z
UID:415-1730320200-1730327400@martinschneider-violin.de
SUMMARY:Freiburger Barockorchester: Brandenburgische Konzerte 1 – 6
DESCRIPTION:
URL:http://martinschneider-violin.de/event/freiburger-barockorchester-brandenburgische-konzerte-1-6-2/
LOCATION:Sala Santa Cecilia\, Via Pietro de Coubertin 30\, Rom\, 00196\, Italy
CATEGORIES:Konzert
END:VEVENT
BEGIN:VEVENT
DTSTART;TZID=UTC:20241029T203000
DTEND;TZID=UTC:20241029T223000
DTSTAMP:20260419T135128
CREATED:20241124T110153Z
LAST-MODIFIED:20241124T110604Z
UID:413-1730233800-1730241000@martinschneider-violin.de
SUMMARY:Freiburger Barockorchester: Brandenburgische Konzerte 1 - 6
DESCRIPTION:
URL:http://martinschneider-violin.de/event/freiburger-barockorchester-brandenburgische-konzerte-1-6/
LOCATION:Teatro Comunale\, Via del Teatro 8\, Modena\, 41121\, Italy
CATEGORIES:Konzert
END:VEVENT
BEGIN:VEVENT
DTSTART;TZID=UTC:20241027T180000
DTEND;TZID=UTC:20241027T200000
DTSTAMP:20260419T135128
CREATED:20241124T111007Z
LAST-MODIFIED:20241124T111024Z
UID:427-1730052000-1730059200@martinschneider-violin.de
SUMMARY:Freiburger Barockorchester: Brandenburgische Konzerte 1 – 6
DESCRIPTION:
URL:http://martinschneider-violin.de/event/freiburger-barockorchester-brandenburgische-konzerte-1-6-4/
LOCATION:Great Amber Concert Hall\, Radio iela 8\, Liepāja\, 3401\, Latvia
CATEGORIES:Konzert
END:VEVENT
BEGIN:VEVENT
DTSTART;TZID=UTC:20241019T190000
DTEND;TZID=UTC:20241019T190000
DTSTAMP:20260419T135128
CREATED:20240914T215856Z
LAST-MODIFIED:20240915T121241Z
UID:262-1729364400-1729364400@martinschneider-violin.de
SUMMARY:Zehn Jahre Bayerisches Jugend-Barockorchester
DESCRIPTION:Seit Oktober 2014 spielen Jugendliche im BayJuBa Barockmusik auf historischen Instrumenten – damals ein in Deutschland einzigartiges Projekt – und waren seitdem auch immer wieder in der Residenzwoche zu hören. Freuen Sie sich auf Highlights aus zehn Jahren mit Musik von Johann Heinrich Schmelzer\, Heinrich Ignaz Franz Biber\, Jean-Baptiste Lully\, Unico Wilhelm van Wassenaer\, Charles Avison\, Georg Philipp Telemann u.a.
URL:http://martinschneider-violin.de/event/zehn-jahre-bayerisches-jugend-barockorchester/
LOCATION:Antiquarium\, Residenz München\, Residenzstraße 1\, München\, 80333\, Germany
CATEGORIES:Konzert
END:VEVENT
BEGIN:VEVENT
DTSTART;TZID=UTC:20241013T190000
DTEND;TZID=UTC:20241013T190000
DTSTAMP:20260419T135128
CREATED:20240912T211854Z
LAST-MODIFIED:20240915T121206Z
UID:129-1728846000-1728846000@martinschneider-violin.de
SUMMARY:Herbstkonzert der Jungen Sinfonie Reutlingen
DESCRIPTION:Felix Mendelssohn Bartholdy\, Violinkonzert e-Moll\, Op. 64 mit der Jungen Sinfonie Reutlingen. \nGespielt auf einer historischen Violine mit historischem Setup: u.a. mit Darmsaiten sowie einem historischen Bogen
URL:http://martinschneider-violin.de/event/herbstkonzert-der-jungen-sinfonie-reutlingen/
LOCATION:Stadthalle Reutlingen\, Manfred-Oechsle-Platz 1\, Reutlingen\, 72762\, Germany
CATEGORIES:Konzert
END:VEVENT
END:VCALENDAR