BEGIN:VCALENDAR
VERSION:2.0
PRODID:-//Martin Schneider - ECPv6.6.4//NONSGML v1.0//EN
CALSCALE:GREGORIAN
METHOD:PUBLISH
X-WR-CALNAME:Martin Schneider
X-ORIGINAL-URL:http://martinschneider-violin.de
X-WR-CALDESC:Events for Martin Schneider
REFRESH-INTERVAL;VALUE=DURATION:PT1H
X-Robots-Tag:noindex
X-PUBLISHED-TTL:PT1H
BEGIN:VTIMEZONE
TZID:UTC
BEGIN:STANDARD
TZOFFSETFROM:+0000
TZOFFSETTO:+0000
TZNAME:UTC
DTSTART:20260101T000000
END:STANDARD
END:VTIMEZONE
BEGIN:VEVENT
DTSTART;TZID=UTC:20260308T203000
DTEND;TZID=UTC:20260308T213000
DTSTAMP:20260421T212611
CREATED:20260301T151556Z
LAST-MODIFIED:20260301T153258Z
UID:469-1773001800-1773005400@martinschneider-violin.de
SUMMARY:Vivaldi: Vier Jahreszeiten
DESCRIPTION:Antonio Vivaldis Vier Jahreszeiten mit dem Yara-Ensemble! \n\n\n\nSolist: Martin Schneider
URL:http://martinschneider-violin.de/event/vivaldi-vier-jahreszeiten/
LOCATION:Kleiner Kursaal Bad Cannstatt\, Königsplatz 1\, Stuttgart-Bad Cannstatt\, 70372\, Germany
END:VEVENT
END:VCALENDAR