BEGIN:VCALENDAR
VERSION:2.0
PRODID:-//Martin Schneider - ECPv6.6.4//NONSGML v1.0//EN
CALSCALE:GREGORIAN
METHOD:PUBLISH
X-ORIGINAL-URL:http://martinschneider-violin.de
X-WR-CALDESC:Events for Martin Schneider
REFRESH-INTERVAL;VALUE=DURATION:PT1H
X-Robots-Tag:noindex
X-PUBLISHED-TTL:PT1H
BEGIN:VTIMEZONE
TZID:UTC
BEGIN:STANDARD
TZOFFSETFROM:+0000
TZOFFSETTO:+0000
TZNAME:UTC
DTSTART:20250101T000000
END:STANDARD
END:VTIMEZONE
BEGIN:VEVENT
DTSTART;TZID=UTC:20250216T200000
DTEND;TZID=UTC:20250216T220000
DTSTAMP:20260421T180014
CREATED:20241124T103955Z
LAST-MODIFIED:20241124T105514Z
UID:396-1739736000-1739743200@martinschneider-violin.de
SUMMARY:Freiburger Barockochester: Viva Vivaldi!
DESCRIPTION:
URL:http://martinschneider-violin.de/event/freiburger-barockochester-viva-vivaldi/
LOCATION:Konzerthaus Freiburg\, Konrad-Adenauer-Platz 1\, Freiburg\, 79098\, Germany
CATEGORIES:Konzert
END:VEVENT
END:VCALENDAR